<PAMDataset>
  <SRS>PROJCS[&quot;NAD83 / California zone 3&quot;,GEOGCS[&quot;NAD83&quot;,DATUM[&quot;North_American_Datum_1983&quot;,SPHEROID[&quot;GRS 1980&quot;,6378137,298.257222101,AUTHORITY[&quot;EPSG&quot;,&quot;7019&quot;]],AUTHORITY[&quot;EPSG&quot;,&quot;6269&quot;]],PRIMEM[&quot;Greenwich&quot;,0,AUTHORITY[&quot;EPSG&quot;,&quot;8901&quot;]],UNIT[&quot;degree&quot;,0.01745329251994328,AUTHORITY[&quot;EPSG&quot;,&quot;9122&quot;]],AUTHORITY[&quot;EPSG&quot;,&quot;4269&quot;]],PROJECTION[&quot;Lambert_Conformal_Conic_2SP&quot;],PARAMETER[&quot;standard_parallel_1&quot;,38.43333333333333],PARAMETER[&quot;standard_parallel_2&quot;,37.06666666666667],PARAMETER[&quot;latitude_of_origin&quot;,36.5],PARAMETER[&quot;central_meridian&quot;,-120.5],PARAMETER[&quot;false_easting&quot;,6561666.666666667],PARAMETER[&quot;false_northing&quot;,1640416.666666667],UNIT[&quot;us_survey_feet&quot;,0.3048006096012192]]</SRS>
  <GeoTransform> 5.9783665000000000e+006, 1.0000000000000000e+000, 0.0000000000000000e+000, 2.1239085000000000e+006, 0.0000000000000000e+000,-1.0000000000000000e+000</GeoTransform>
  <Metadata>
    <MDI key="IMAGE__INPUT_NAME">G:\image\1ft\A04.tif, G:\image\1ft\A05.tif, G:\image\1ft\A06.tif, G:\image\1ft\A07.tif, G:\image\1ft\A08.tif, G:\image\1ft\A09.tif, G:\image\1ft\A10.tif, G:\image\1ft\A11.tif, G:\image\1ft\A12.tif, G:\image\1ft\B04.tif, G:\image\1ft\B05.tif, G:\image\1ft\B06.tif, G:\image\1ft\B07.tif, G:\image\1ft\B08.tif, G:\image\1ft\B09.tif, G:\image\1ft\B10.tif, G:\image\1ft\B11.tif, G:\image\1ft\B12.tif, G:\image\1ft\C04.tif, G:\image\1ft\C05.tif, G:\image\1ft\C06.tif, G:\image\1ft\C07.tif, G:\image\1ft\C08.tif, G:\image\1ft\C09.tif, G:\image\1ft\C10.tif, G:\image\1ft\C11.tif, G:\image\1ft\C12.tif, G:\image\1ft\C13.tif, G:\image\1ft\D03.tif, G:\image\1ft\D04.tif, G:\image\1ft\D05.tif, G:\image\1ft\D06.tif, G:\image\1ft\D07.tif, G:\image\1ft\D08.tif, G:\image\1ft\D09.tif, G:\image\1ft\D10.tif, G:\image\1ft\D11.tif, G:\image\1ft\D12.tif, G:\image\1ft\D13.tif, G:\image\1ft\E01.tif, G:\image\1ft\E02.tif, G:\image\1ft\E03.tif, G:\image\1ft\E04.tif, G:\image\1ft\E05.tif, G:\image\1ft\E06.tif, G:\image\1ft\E07.tif, G:\image\1ft\E08.tif, G:\image\1ft\E09.tif, G:\image\1ft\E10.tif, G:\image\1ft\E11.tif, G:\image\1ft\E12.tif, G:\image\1ft\E13.tif, G:\image\1ft\F01.tif, G:\image\1ft\F02.tif, G:\image\1ft\F03.tif, G:\image\1ft\F04.tif, G:\image\1ft\F05.tif, G:\image\1ft\F06.tif, G:\image\1ft\F07.tif, G:\image\1ft\F08.tif, G:\image\1ft\F09.tif, G:\image\1ft\F10.tif, G:\image\1ft\F11.tif, G:\image\1ft\F12.tif, G:\image\1ft\F13.tif, G:\image\1ft\G01.tif, G:\image\1ft\G02.tif, G:\image\1ft\G03.tif, G:\image\1ft\G04.tif, G:\image\1ft\G05.tif, G:\image\1ft\G06.tif, G:\image\1ft\G07.tif, G:\image\1ft\G08.tif, G:\image\1ft\G09.tif, G:\image\1ft\G10.tif, G:\image\1ft\G11.tif, G:\image\1ft\G12.tif, G:\image\1ft\G13.tif, G:\image\1ft\H01.tif, G:\image\1ft\H02.tif, G:\image\1ft\H03.tif, G:\image\1ft\H04.tif, G:\image\1ft\H05.tif, G:\image\1ft\H06.tif, G:\image\1ft\H07.tif, G:\image\1ft\H08.tif, G:\image\1ft\H09.tif, G:\image\1ft\H10.tif, G:\image\1ft\H11.tif, G:\image\1ft\H12.tif, G:\image\1ft\H13.tif, G:\image\1ft\H14.tif, G:\image\1ft\I01.tif, G:\image\1ft\I02.tif, G:\image\1ft\I03.tif, G:\image\1ft\I04.tif, G:\image\1ft\I05.tif, G:\image\1ft\I06.tif, G:\image\1ft\I07.tif, G:\image\1ft\I08.tif, G:\image\1ft\I09.tif, G:\image\1ft\I10.tif, G:\image\1ft\I11.tif, G:\image\1ft\I12.tif, G:\image\1ft\I13.tif, G:\image\1ft\I14.tif, G:\image\1ft\J01.tif, G:\image\1ft\J02.tif, G:\image\1ft\J03.tif, G:\image\1ft\J04.tif, G:\image\1ft\J05.tif, G:\image\1ft\J06.tif, G:\image\1ft\J07.tif, G:\image\1ft\J08.tif, G:\image\1ft\J09.tif, G:\image\1ft\J10.tif, G:\image\1ft\J11.tif, G:\image\1ft\J12.tif, G:\image\1ft\J13.tif, G:\image\1ft\J14.tif, G:\image\1ft\K01.tif, G:\image\1ft\K02.tif, G:\image\1ft\K03.tif, G:\image\1ft\K04.tif, G:\image\1ft\K05.tif, G:\image\1ft\K06.tif, G:\image\1ft\K07.tif, G:\image\1ft\K08.tif, G:\image\1ft\K09.tif, G:\image\1ft\K10.tif, G:\image\1ft\K11.tif, G:\image\1ft\K12.tif, G:\image\1ft\K13.tif, G:\image\1ft\K14.tif, G:\image\1ft\L01.tif, G:\image\1ft\L02.tif, G:\image\1ft\L03.tif, G:\image\1ft\L04.tif, G:\image\1ft\L05.tif, G:\image\1ft\L06.tif, G:\image\1ft\L07.tif, G:\image\1ft\L08.tif, G:\image\1ft\L09.tif, G:\image\1ft\L10.tif, G:\image\1ft\L11.tif, G:\image\1ft\L12.tif, G:\image\1ft\L13.tif, G:\image\1ft\L14.tif, G:\image\1ft\M01.tif, G:\image\1ft\M02.tif, G:\image\1ft\M03.tif, G:\image\1ft\M04.tif, G:\image\1ft\M05.tif, G:\image\1ft\M06.tif, G:\image\1ft\M07.tif, G:\image\1ft\M08.tif, G:\image\1ft\M09.tif, G:\image\1ft\M10.tif, G:\image\1ft\M11.tif, G:\image\1ft\M12.tif, G:\image\1ft\M13.tif, G:\image\1ft\M14.tif, G:\image\1ft\M15.tif, G:\image\1ft\N01.tif, G:\image\1ft\N02.tif, G:\image\1ft\N03.tif, G:\image\1ft\N04.tif, G:\image\1ft\N05.tif, G:\image\1ft\N06.tif, G:\image\1ft\N07.tif, G:\image\1ft\N08.tif, G:\image\1ft\N09.tif, G:\image\1ft\N10.tif, G:\image\1ft\N11.tif, G:\image\1ft\N12.tif, G:\image\1ft\N13.tif, G:\image\1ft\N14.tif, G:\image\1ft\N15.tif, G:\image\1ft\O01.tif, G:\image\1ft\O02.tif, G:\image\1ft\O03.tif, G:\image\1ft\O04.tif, G:\image\1ft\O05.tif, G:\image\1ft\O06.tif, G:\image\1ft\O07.tif, G:\image\1ft\O08.tif, G:\image\1ft\O09.tif, G:\image\1ft\O10.tif, G:\image\1ft\O11.tif, G:\image\1ft\O12.tif, G:\image\1ft\O13.tif, G:\image\1ft\O14.tif, G:\image\1ft\O15.tif, G:\image\1ft\P01.tif, G:\image\1ft\P02.tif, G:\image\1ft\P03.tif, G:\image\1ft\P04.tif, G:\image\1ft\P05.tif, G:\image\1ft\P06.tif, G:\image\1ft\P07.tif, G:\image\1ft\P08.tif, G:\image\1ft\P09.tif, G:\image\1ft\P10.tif, G:\image\1ft\P11.tif, G:\image\1ft\P12.tif, G:\image\1ft\P13.tif, G:\image\1ft\P14.tif, G:\image\1ft\P15.tif, G:\image\1ft\P16.tif, G:\image\1ft\Q02.tif, G:\image\1ft\Q03.tif, G:\image\1ft\Q04.tif, G:\image\1ft\Q05.tif, G:\image\1ft\Q06.tif, G:\image\1ft\Q07.tif, G:\image\1ft\Q08.tif, G:\image\1ft\Q09.tif, G:\image\1ft\Q10.tif, G:\image\1ft\Q11.tif, G:\image\1ft\Q12.tif, G:\image\1ft\Q13.tif, G:\image\1ft\Q14.tif, G:\image\1ft\Q15.tif, G:\image\1ft\Q16.tif, G:\image\1ft\R02.tif, G:\image\1ft\R03.tif, G:\image\1ft\R04.tif, G:\image\1ft\R05.tif, G:\image\1ft\R06.tif, G:\image\1ft\R07.tif, G:\image\1ft\R08.tif, G:\image\1ft\R09.tif, G:\image\1ft\R10.tif, G:\image\1ft\R11.tif, G:\image\1ft\R12.tif, G:\image\1ft\R13.tif, G:\image\1ft\R14.tif, G:\image\1ft\R15.tif, G:\image\1ft\R16.tif, G:\image\1ft\S02.tif, G:\image\1ft\S03.tif, G:\image\1ft\S04.tif, G:\image\1ft\S05.tif, G:\image\1ft\S06.tif, G:\image\1ft\S07.tif, G:\image\1ft\S08.tif, G:\image\1ft\S09.tif, G:\image\1ft\S10.tif, G:\image\1ft\S11.tif, G:\image\1ft\S12.tif, G:\image\1ft\S13.tif, G:\image\1ft\S14.tif, G:\image\1ft\S15.tif, G:\image\1ft\T14.tif</MDI>
    <MDI key="IMAGE__INPUT_FILE_SIZE">1527361328.000000</MDI>
    <MDI key="IMAGE__COMPRESSION_VERSION">1,6,1</MDI>
    <MDI key="IMAGE__TARGET_COMPRESSION_RATIO">10.000000</MDI>
    <MDI key="IMAGE__COMPRESSION_NLEV">9</MDI>
    <MDI key="IMAGE__COMPRESSION_WEIGHT">4.000000</MDI>
    <MDI key="IMAGE__COMPRESSION_GAMMA">2.000000</MDI>
    <MDI key="IMAGE__COMPRESSION_BLOCK_SIZE">1024</MDI>
    <MDI key="IMAGE__CREATION_DATE">Thu Mar 28 15:29:22 2002
</MDI>
    <MDI key="IMAGE__WIDTH">48001</MDI>
    <MDI key="IMAGE__HEIGHT">40001</MDI>
    <MDI key="IMAGE__NO_DATA_VALUE">255</MDI>
    <MDI key="IMAGE__TRANSPARENT_DATA_VALUE">255</MDI>
    <MDI key="IMAGE__COLOR_SCHEME">3</MDI>
    <MDI key="IMAGE__DATA_TYPE">0</MDI>
    <MDI key="IMAGE__BITS_PER_SAMPLE">8</MDI>
    <MDI key="IMAGE__XY_ORIGIN">5978367.000000,2123908.000000</MDI>
    <MDI key="IMAGE__X_RESOLUTION">1.000000</MDI>
    <MDI key="IMAGE__Y_RESOLUTION">1.000000</MDI>
    <MDI key="VERSION">MG2</MDI>
  </Metadata>
  <PAMRasterBand band="1">
    <GDALRasterAttributeTable>
      <FieldDefn index="0">
        <Name>Histogram</Name>
        <Type>0</Type>
        <Usage>0</Usage>
      </FieldDefn>
      <Row index="0">
        <F>0</F>
      </Row>
      <Row index="1">
        <F>0</F>
      </Row>
      <Row index="2">
        <F>0</F>
      </Row>
      <Row index="3">
        <F>0</F>
      </Row>
      <Row index="4">
        <F>0</F>
      </Row>
      <Row index="5">
        <F>0</F>
      </Row>
      <Row index="6">
        <F>0</F>
      </Row>
      <Row index="7">
        <F>0</F>
      </Row>
      <Row index="8">
        <F>0</F>
      </Row>
      <Row index="9">
        <F>0</F>
      </Row>
      <Row index="10">
        <F>0</F>
      </Row>
      <Row index="11">
        <F>0</F>
      </Row>
      <Row index="12">
        <F>0</F>
      </Row>
      <Row index="13">
        <F>0</F>
      </Row>
      <Row index="14">
        <F>0</F>
      </Row>
      <Row index="15">
        <F>0</F>
      </Row>
      <Row index="16">
        <F>0</F>
      </Row>
      <Row index="17">
        <F>0</F>
      </Row>
      <Row index="18">
        <F>0</F>
      </Row>
      <Row index="19">
        <F>0</F>
      </Row>
      <Row index="20">
        <F>0</F>
      </Row>
      <Row index="21">
        <F>0</F>
      </Row>
      <Row index="22">
        <F>0</F>
      </Row>
      <Row index="23">
        <F>0</F>
      </Row>
      <Row index="24">
        <F>0</F>
      </Row>
      <Row index="25">
        <F>0</F>
      </Row>
      <Row index="26">
        <F>0</F>
      </Row>
      <Row index="27">
        <F>0</F>
      </Row>
      <Row index="28">
        <F>0</F>
      </Row>
      <Row index="29">
        <F>0</F>
      </Row>
      <Row index="30">
        <F>0</F>
      </Row>
      <Row index="31">
        <F>0</F>
      </Row>
      <Row index="32">
        <F>0</F>
      </Row>
      <Row index="33">
        <F>0</F>
      </Row>
      <Row index="34">
        <F>0</F>
      </Row>
      <Row index="35">
        <F>0</F>
      </Row>
      <Row index="36">
        <F>0</F>
      </Row>
      <Row index="37">
        <F>11907</F>
      </Row>
      <Row index="38">
        <F>3969</F>
      </Row>
      <Row index="39">
        <F>3969</F>
      </Row>
      <Row index="40">
        <F>11907</F>
      </Row>
      <Row index="41">
        <F>19845</F>
      </Row>
      <Row index="42">
        <F>19845</F>
      </Row>
      <Row index="43">
        <F>15876</F>
      </Row>
      <Row index="44">
        <F>19845</F>
      </Row>
      <Row index="45">
        <F>23814</F>
      </Row>
      <Row index="46">
        <F>39690</F>
      </Row>
      <Row index="47">
        <F>95256</F>
      </Row>
      <Row index="48">
        <F>51597</F>
      </Row>
      <Row index="49">
        <F>99225</F>
      </Row>
      <Row index="50">
        <F>59535</F>
      </Row>
      <Row index="51">
        <F>103194</F>
      </Row>
      <Row index="52">
        <F>138915</F>
      </Row>
      <Row index="53">
        <F>186543</F>
      </Row>
      <Row index="54">
        <F>186543</F>
      </Row>
      <Row index="55">
        <F>182574</F>
      </Row>
      <Row index="56">
        <F>206388</F>
      </Row>
      <Row index="57">
        <F>285768</F>
      </Row>
      <Row index="58">
        <F>325458</F>
      </Row>
      <Row index="59">
        <F>476280</F>
      </Row>
      <Row index="60">
        <F>607257</F>
      </Row>
      <Row index="61">
        <F>785862</F>
      </Row>
      <Row index="62">
        <F>956529</F>
      </Row>
      <Row index="63">
        <F>996219</F>
      </Row>
      <Row index="64">
        <F>1484406</F>
      </Row>
      <Row index="65">
        <F>1845585</F>
      </Row>
      <Row index="66">
        <F>3147417</F>
      </Row>
      <Row index="67">
        <F>4139667</F>
      </Row>
      <Row index="68">
        <F>5568507</F>
      </Row>
      <Row index="69">
        <F>6540912</F>
      </Row>
      <Row index="70">
        <F>6564726</F>
      </Row>
      <Row index="71">
        <F>6977502</F>
      </Row>
      <Row index="72">
        <F>6505191</F>
      </Row>
      <Row index="73">
        <F>6656013</F>
      </Row>
      <Row index="74">
        <F>7029099</F>
      </Row>
      <Row index="75">
        <F>7711767</F>
      </Row>
      <Row index="76">
        <F>8017380</F>
      </Row>
      <Row index="77">
        <F>8442063</F>
      </Row>
      <Row index="78">
        <F>8711955</F>
      </Row>
      <Row index="79">
        <F>9132669</F>
      </Row>
      <Row index="80">
        <F>9620856</F>
      </Row>
      <Row index="81">
        <F>10057446</F>
      </Row>
      <Row index="82">
        <F>10474191</F>
      </Row>
      <Row index="83">
        <F>10442439</F>
      </Row>
      <Row index="84">
        <F>10978254</F>
      </Row>
      <Row index="85">
        <F>10843308</F>
      </Row>
      <Row index="86">
        <F>10946502</F>
      </Row>
      <Row index="87">
        <F>11410875</F>
      </Row>
      <Row index="88">
        <F>11462472</F>
      </Row>
      <Row index="89">
        <F>11394999</F>
      </Row>
      <Row index="90">
        <F>10771866</F>
      </Row>
      <Row index="91">
        <F>10894905</F>
      </Row>
      <Row index="92">
        <F>10863153</F>
      </Row>
      <Row index="93">
        <F>10894905</F>
      </Row>
      <Row index="94">
        <F>10601199</F>
      </Row>
      <Row index="95">
        <F>10632951</F>
      </Row>
      <Row index="96">
        <F>10446408</F>
      </Row>
      <Row index="97">
        <F>10771866</F>
      </Row>
      <Row index="98">
        <F>10930626</F>
      </Row>
      <Row index="99">
        <F>11140983</F>
      </Row>
      <Row index="100">
        <F>11077479</F>
      </Row>
      <Row index="101">
        <F>10974285</F>
      </Row>
      <Row index="102">
        <F>11708550</F>
      </Row>
      <Row index="103">
        <F>11533914</F>
      </Row>
      <Row index="104">
        <F>11712519</F>
      </Row>
      <Row index="105">
        <F>12200706</F>
      </Row>
      <Row index="106">
        <F>11839527</F>
      </Row>
      <Row index="107">
        <F>12172923</F>
      </Row>
      <Row index="108">
        <F>12708738</F>
      </Row>
      <Row index="109">
        <F>13244553</F>
      </Row>
      <Row index="110">
        <F>13546197</F>
      </Row>
      <Row index="111">
        <F>13939128</F>
      </Row>
      <Row index="112">
        <F>14570199</F>
      </Row>
      <Row index="113">
        <F>14617827</F>
      </Row>
      <Row index="114">
        <F>14395563</F>
      </Row>
      <Row index="115">
        <F>14971068</F>
      </Row>
      <Row index="116">
        <F>15832341</F>
      </Row>
      <Row index="117">
        <F>15721209</F>
      </Row>
      <Row index="118">
        <F>16030791</F>
      </Row>
      <Row index="119">
        <F>16558668</F>
      </Row>
      <Row index="120">
        <F>16999227</F>
      </Row>
      <Row index="121">
        <F>17646174</F>
      </Row>
      <Row index="122">
        <F>18007353</F>
      </Row>
      <Row index="123">
        <F>17852562</F>
      </Row>
      <Row index="124">
        <F>18563013</F>
      </Row>
      <Row index="125">
        <F>18868626</F>
      </Row>
      <Row index="126">
        <F>19150425</F>
      </Row>
      <Row index="127">
        <F>19503666</F>
      </Row>
      <Row index="128">
        <F>19467945</F>
      </Row>
      <Row index="129">
        <F>19924380</F>
      </Row>
      <Row index="130">
        <F>20317311</F>
      </Row>
      <Row index="131">
        <F>20345094</F>
      </Row>
      <Row index="132">
        <F>20388753</F>
      </Row>
      <Row index="133">
        <F>20456226</F>
      </Row>
      <Row index="134">
        <F>21357189</F>
      </Row>
      <Row index="135">
        <F>20678490</F>
      </Row>
      <Row index="136">
        <F>20599110</F>
      </Row>
      <Row index="137">
        <F>20813436</F>
      </Row>
      <Row index="138">
        <F>20833281</F>
      </Row>
      <Row index="139">
        <F>20424474</F>
      </Row>
      <Row index="140">
        <F>20285559</F>
      </Row>
      <Row index="141">
        <F>20063295</F>
      </Row>
      <Row index="142">
        <F>19725930</F>
      </Row>
      <Row index="143">
        <F>19460007</F>
      </Row>
      <Row index="144">
        <F>18729711</F>
      </Row>
      <Row index="145">
        <F>18285183</F>
      </Row>
      <Row index="146">
        <F>17003196</F>
      </Row>
      <Row index="147">
        <F>16923816</F>
      </Row>
      <Row index="148">
        <F>16772994</F>
      </Row>
      <Row index="149">
        <F>15669612</F>
      </Row>
      <Row index="150">
        <F>15149673</F>
      </Row>
      <Row index="151">
        <F>14816277</F>
      </Row>
      <Row index="152">
        <F>13776399</F>
      </Row>
      <Row index="153">
        <F>12887343</F>
      </Row>
      <Row index="154">
        <F>12506319</F>
      </Row>
      <Row index="155">
        <F>12061791</F>
      </Row>
      <Row index="156">
        <F>11537883</F>
      </Row>
      <Row index="157">
        <F>11077479</F>
      </Row>
      <Row index="158">
        <F>10053477</F>
      </Row>
      <Row index="159">
        <F>9477972</F>
      </Row>
      <Row index="160">
        <F>9089010</F>
      </Row>
      <Row index="161">
        <F>8767521</F>
      </Row>
      <Row index="162">
        <F>8192016</F>
      </Row>
      <Row index="163">
        <F>7787178</F>
      </Row>
      <Row index="164">
        <F>7124355</F>
      </Row>
      <Row index="165">
        <F>6691734</F>
      </Row>
      <Row index="166">
        <F>6683796</F>
      </Row>
      <Row index="167">
        <F>6378183</F>
      </Row>
      <Row index="168">
        <F>5850306</F>
      </Row>
      <Row index="169">
        <F>5600259</F>
      </Row>
      <Row index="170">
        <F>4977126</F>
      </Row>
      <Row index="171">
        <F>4770738</F>
      </Row>
      <Row index="172">
        <F>4524660</F>
      </Row>
      <Row index="173">
        <F>4242861</F>
      </Row>
      <Row index="174">
        <F>3905496</F>
      </Row>
      <Row index="175">
        <F>3576069</F>
      </Row>
      <Row index="176">
        <F>3329991</F>
      </Row>
      <Row index="177">
        <F>3187107</F>
      </Row>
      <Row index="178">
        <F>2909277</F>
      </Row>
      <Row index="179">
        <F>2567943</F>
      </Row>
      <Row index="180">
        <F>2647323</F>
      </Row>
      <Row index="181">
        <F>2413152</F>
      </Row>
      <Row index="182">
        <F>2393307</F>
      </Row>
      <Row index="183">
        <F>2194857</F>
      </Row>
      <Row index="184">
        <F>2079756</F>
      </Row>
      <Row index="185">
        <F>1976562</F>
      </Row>
      <Row index="186">
        <F>1774143</F>
      </Row>
      <Row index="187">
        <F>1666980</F>
      </Row>
      <Row index="188">
        <F>1853523</F>
      </Row>
      <Row index="189">
        <F>1432809</F>
      </Row>
      <Row index="190">
        <F>1210545</F>
      </Row>
      <Row index="191">
        <F>1317708</F>
      </Row>
      <Row index="192">
        <F>1281987</F>
      </Row>
      <Row index="193">
        <F>1274049</F>
      </Row>
      <Row index="194">
        <F>1214514</F>
      </Row>
      <Row index="195">
        <F>1000188</F>
      </Row>
      <Row index="196">
        <F>1024002</F>
      </Row>
      <Row index="197">
        <F>1016064</F>
      </Row>
      <Row index="198">
        <F>984312</F>
      </Row>
      <Row index="199">
        <F>837459</F>
      </Row>
      <Row index="200">
        <F>885087</F>
      </Row>
      <Row index="201">
        <F>805707</F>
      </Row>
      <Row index="202">
        <F>698544</F>
      </Row>
      <Row index="203">
        <F>781893</F>
      </Row>
      <Row index="204">
        <F>674730</F>
      </Row>
      <Row index="205">
        <F>559629</F>
      </Row>
      <Row index="206">
        <F>531846</F>
      </Row>
      <Row index="207">
        <F>512001</F>
      </Row>
      <Row index="208">
        <F>504063</F>
      </Row>
      <Row index="209">
        <F>527877</F>
      </Row>
      <Row index="210">
        <F>508032</F>
      </Row>
      <Row index="211">
        <F>543753</F>
      </Row>
      <Row index="212">
        <F>436590</F>
      </Row>
      <Row index="213">
        <F>444528</F>
      </Row>
      <Row index="214">
        <F>400869</F>
      </Row>
      <Row index="215">
        <F>369117</F>
      </Row>
      <Row index="216">
        <F>365148</F>
      </Row>
      <Row index="217">
        <F>365148</F>
      </Row>
      <Row index="218">
        <F>396900</F>
      </Row>
      <Row index="219">
        <F>321489</F>
      </Row>
      <Row index="220">
        <F>329427</F>
      </Row>
      <Row index="221">
        <F>400869</F>
      </Row>
      <Row index="222">
        <F>408807</F>
      </Row>
      <Row index="223">
        <F>508032</F>
      </Row>
      <Row index="224">
        <F>349272</F>
      </Row>
      <Row index="225">
        <F>373086</F>
      </Row>
      <Row index="226">
        <F>329427</F>
      </Row>
      <Row index="227">
        <F>369117</F>
      </Row>
      <Row index="228">
        <F>381024</F>
      </Row>
      <Row index="229">
        <F>281799</F>
      </Row>
      <Row index="230">
        <F>337365</F>
      </Row>
      <Row index="231">
        <F>277830</F>
      </Row>
      <Row index="232">
        <F>226233</F>
      </Row>
      <Row index="233">
        <F>210357</F>
      </Row>
      <Row index="234">
        <F>202419</F>
      </Row>
      <Row index="235">
        <F>127008</F>
      </Row>
      <Row index="236">
        <F>158760</F>
      </Row>
      <Row index="237">
        <F>127008</F>
      </Row>
      <Row index="238">
        <F>99225</F>
      </Row>
      <Row index="239">
        <F>138915</F>
      </Row>
      <Row index="240">
        <F>87318</F>
      </Row>
      <Row index="241">
        <F>138915</F>
      </Row>
      <Row index="242">
        <F>71442</F>
      </Row>
      <Row index="243">
        <F>119070</F>
      </Row>
      <Row index="244">
        <F>134946</F>
      </Row>
      <Row index="245">
        <F>226233</F>
      </Row>
      <Row index="246">
        <F>166698</F>
      </Row>
      <Row index="247">
        <F>130977</F>
      </Row>
      <Row index="248">
        <F>150822</F>
      </Row>
      <Row index="249">
        <F>182574</F>
      </Row>
      <Row index="250">
        <F>869211</F>
      </Row>
      <Row index="251">
        <F>2675106</F>
      </Row>
      <Row index="252">
        <F>1786050</F>
      </Row>
      <Row index="253">
        <F>2274237</F>
      </Row>
      <Row index="254">
        <F>159930855</F>
      </Row>
      <Row index="255">
        <F>251182134</F>
      </Row>
    </GDALRasterAttributeTable>
    <Metadata>
      <MDI key="LAYER_TYPE">athematic</MDI>
