<PAMDataset>
  <SRS>PROJCS[&quot;NAD83 / California zone 3&quot;,GEOGCS[&quot;NAD83&quot;,DATUM[&quot;North_American_Datum_1983&quot;,SPHEROID[&quot;GRS 1980&quot;,6378137,298.257222101,AUTHORITY[&quot;EPSG&quot;,&quot;7019&quot;]],AUTHORITY[&quot;EPSG&quot;,&quot;6269&quot;]],PRIMEM[&quot;Greenwich&quot;,0,AUTHORITY[&quot;EPSG&quot;,&quot;8901&quot;]],UNIT[&quot;degree&quot;,0.01745329251994328,AUTHORITY[&quot;EPSG&quot;,&quot;9122&quot;]],AUTHORITY[&quot;EPSG&quot;,&quot;4269&quot;]],PROJECTION[&quot;Lambert_Conformal_Conic_2SP&quot;],PARAMETER[&quot;standard_parallel_1&quot;,38.43333333333333],PARAMETER[&quot;standard_parallel_2&quot;,37.06666666666667],PARAMETER[&quot;latitude_of_origin&quot;,36.5],PARAMETER[&quot;central_meridian&quot;,-120.5],PARAMETER[&quot;false_easting&quot;,6561666.666666667],PARAMETER[&quot;false_northing&quot;,1640416.666666667],UNIT[&quot;us_survey_feet&quot;,0.3048006096012192]]</SRS>
  <GeoTransform> 6.0173665000000000e+006, 1.0000000000000000e+000, 0.0000000000000000e+000, 2.1319085000000000e+006, 0.0000000000000000e+000,-1.0000000000000000e+000</GeoTransform>
  <Metadata>
    <MDI key="IMAGE__INPUT_NAME">G:\image\Treasureisland\1ft\A15.tif, G:\image\Treasureisland\1ft\A16.tif, G:\image\Treasureisland\1ft\AA15.tif, G:\image\Treasureisland\1ft\AA16.tif, G:\image\Treasureisland\1ft\B15.tif, G:\image\Treasureisland\1ft\B16.tif, G:\image\Treasureisland\1ft\BB14.tif, G:\image\Treasureisland\1ft\BB15.tif, G:\image\Treasureisland\1ft\BB16.tif, G:\image\Treasureisland\1ft\CC14.tif, G:\image\Treasureisland\1ft\CC15.tif, G:\image\Treasureisland\1ft\DD14.tif, G:\image\Treasureisland\1ft\DD15.tif</MDI>
    <MDI key="IMAGE__INPUT_FILE_SIZE">78172276.000000</MDI>
    <MDI key="IMAGE__COMPRESSION_VERSION">1,6,1</MDI>
    <MDI key="IMAGE__TARGET_COMPRESSION_RATIO">10.000000</MDI>
    <MDI key="IMAGE__COMPRESSION_NLEV">9</MDI>
    <MDI key="IMAGE__COMPRESSION_WEIGHT">4.000000</MDI>
    <MDI key="IMAGE__COMPRESSION_GAMMA">2.000000</MDI>
    <MDI key="IMAGE__COMPRESSION_BLOCK_SIZE">512</MDI>
    <MDI key="IMAGE__CREATION_DATE">Thu Mar 28 17:59:14 2002
</MDI>
    <MDI key="IMAGE__WIDTH">9001</MDI>
    <MDI key="IMAGE__HEIGHT">12001</MDI>
    <MDI key="IMAGE__NO_DATA_VALUE">255</MDI>
    <MDI key="IMAGE__TRANSPARENT_DATA_VALUE">255</MDI>
    <MDI key="IMAGE__COLOR_SCHEME">3</MDI>
    <MDI key="IMAGE__DATA_TYPE">0</MDI>
    <MDI key="IMAGE__BITS_PER_SAMPLE">8</MDI>
    <MDI key="IMAGE__XY_ORIGIN">6017367.000000,2131908.000000</MDI>
    <MDI key="IMAGE__X_RESOLUTION">1.000000</MDI>
    <MDI key="IMAGE__Y_RESOLUTION">1.000000</MDI>
    <MDI key="VERSION">MG2</MDI>
  </Metadata>
  <PAMRasterBand band="1">
    <GDALRasterAttributeTable>
      <FieldDefn index="0">
        <Name>Histogram</Name>
        <Type>0</Type>
        <Usage>0</Usage>
      </FieldDefn>
      <Row index="0">
        <F>0</F>
      </Row>
      <Row index="1">
        <F>0</F>
      </Row>
      <Row index="2">
        <F>0</F>
      </Row>
      <Row index="3">
        <F>0</F>
      </Row>
      <Row index="4">
        <F>0</F>
      </Row>
      <Row index="5">
        <F>0</F>
      </Row>
      <Row index="6">
        <F>0</F>
      </Row>
      <Row index="7">
        <F>0</F>
      </Row>
      <Row index="8">
        <F>0</F>
      </Row>
      <Row index="9">
        <F>0</F>
      </Row>
      <Row index="10">
        <F>0</F>
      </Row>
      <Row index="11">
        <F>0</F>
      </Row>
      <Row index="12">
        <F>0</F>
      </Row>
      <Row index="13">
        <F>0</F>
      </Row>
      <Row index="14">
        <F>0</F>
      </Row>
      <Row index="15">
        <F>0</F>
      </Row>
      <Row index="16">
        <F>0</F>
      </Row>
      <Row index="17">
        <F>0</F>
      </Row>
      <Row index="18">
        <F>0</F>
      </Row>
      <Row index="19">
        <F>0</F>
      </Row>
      <Row index="20">
        <F>0</F>
      </Row>
      <Row index="21">
        <F>0</F>
      </Row>
      <Row index="22">
        <F>0</F>
      </Row>
      <Row index="23">
        <F>0</F>
      </Row>
      <Row index="24">
        <F>0</F>
      </Row>
      <Row index="25">
        <F>0</F>
      </Row>
      <Row index="26">
        <F>0</F>
      </Row>
      <Row index="27">
        <F>0</F>
      </Row>
      <Row index="28">
        <F>0</F>
      </Row>
      <Row index="29">
        <F>0</F>
      </Row>
      <Row index="30">
        <F>0</F>
      </Row>
      <Row index="31">
        <F>225</F>
      </Row>
      <Row index="32">
        <F>900</F>
      </Row>
      <Row index="33">
        <F>675</F>
      </Row>
      <Row index="34">
        <F>1350</F>
      </Row>
      <Row index="35">
        <F>1575</F>
      </Row>
      <Row index="36">
        <F>3600</F>
      </Row>
      <Row index="37">
        <F>2250</F>
      </Row>
      <Row index="38">
        <F>2025</F>
      </Row>
      <Row index="39">
        <F>3825</F>
      </Row>
      <Row index="40">
        <F>5175</F>
      </Row>
      <Row index="41">
        <F>6300</F>
      </Row>
      <Row index="42">
        <F>13500</F>
      </Row>
      <Row index="43">
        <F>22500</F>
      </Row>
      <Row index="44">
        <F>32400</F>
      </Row>
      <Row index="45">
        <F>31500</F>
      </Row>
      <Row index="46">
        <F>36900</F>
      </Row>
      <Row index="47">
        <F>46350</F>
      </Row>
      <Row index="48">
        <F>45225</F>
      </Row>
      <Row index="49">
        <F>40725</F>
      </Row>
      <Row index="50">
        <F>50175</F>
      </Row>
      <Row index="51">
        <F>55575</F>
      </Row>
      <Row index="52">
        <F>57375</F>
      </Row>
      <Row index="53">
        <F>75825</F>
      </Row>
      <Row index="54">
        <F>77850</F>
      </Row>
      <Row index="55">
        <F>92250</F>
      </Row>
      <Row index="56">
        <F>102150</F>
      </Row>
      <Row index="57">
        <F>100575</F>
      </Row>
      <Row index="58">
        <F>106200</F>
      </Row>
      <Row index="59">
        <F>107550</F>
      </Row>
      <Row index="60">
        <F>113850</F>
      </Row>
      <Row index="61">
        <F>122850</F>
      </Row>
      <Row index="62">
        <F>128925</F>
      </Row>
      <Row index="63">
        <F>133200</F>
      </Row>
      <Row index="64">
        <F>154800</F>
      </Row>
      <Row index="65">
        <F>167625</F>
      </Row>
      <Row index="66">
        <F>204975</F>
      </Row>
      <Row index="67">
        <F>217575</F>
      </Row>
      <Row index="68">
        <F>238275</F>
      </Row>
      <Row index="69">
        <F>245025</F>
      </Row>
      <Row index="70">
        <F>237375</F>
      </Row>
      <Row index="71">
        <F>243000</F>
      </Row>
      <Row index="72">
        <F>260100</F>
      </Row>
      <Row index="73">
        <F>273825</F>
      </Row>
      <Row index="74">
        <F>299025</F>
      </Row>
      <Row index="75">
        <F>293175</F>
      </Row>
      <Row index="76">
        <F>297450</F>
      </Row>
      <Row index="77">
        <F>329625</F>
      </Row>
      <Row index="78">
        <F>348075</F>
      </Row>
      <Row index="79">
        <F>378675</F>
      </Row>
      <Row index="80">
        <F>447075</F>
      </Row>
      <Row index="81">
        <F>458550</F>
      </Row>
      <Row index="82">
        <F>430650</F>
      </Row>
      <Row index="83">
        <F>369675</F>
      </Row>
      <Row index="84">
        <F>347850</F>
      </Row>
      <Row index="85">
        <F>303750</F>
      </Row>
      <Row index="86">
        <F>292950</F>
      </Row>
      <Row index="87">
        <F>282825</F>
      </Row>
      <Row index="88">
        <F>254700</F>
      </Row>
      <Row index="89">
        <F>241875</F>
      </Row>
      <Row index="90">
        <F>227475</F>
      </Row>
      <Row index="91">
        <F>202050</F>
      </Row>
      <Row index="92">
        <F>177750</F>
      </Row>
      <Row index="93">
        <F>170775</F>
      </Row>
      <Row index="94">
        <F>159300</F>
      </Row>
      <Row index="95">
        <F>166275</F>
      </Row>
      <Row index="96">
        <F>167400</F>
      </Row>
      <Row index="97">
        <F>157500</F>
      </Row>
      <Row index="98">
        <F>169875</F>
      </Row>
      <Row index="99">
        <F>170100</F>
      </Row>
      <Row index="100">
        <F>162675</F>
      </Row>
      <Row index="101">
        <F>178200</F>
      </Row>
      <Row index="102">
        <F>176850</F>
      </Row>
      <Row index="103">
        <F>165375</F>
      </Row>
      <Row index="104">
        <F>169200</F>
      </Row>
      <Row index="105">
        <F>161550</F>
      </Row>
      <Row index="106">
        <F>165150</F>
      </Row>
      <Row index="107">
        <F>164700</F>
      </Row>
      <Row index="108">
        <F>150750</F>
      </Row>
      <Row index="109">
        <F>161325</F>
      </Row>
      <Row index="110">
        <F>156600</F>
      </Row>
      <Row index="111">
        <F>170550</F>
      </Row>
      <Row index="112">
        <F>175950</F>
      </Row>
      <Row index="113">
        <F>170100</F>
      </Row>
      <Row index="114">
        <F>172575</F>
      </Row>
      <Row index="115">
        <F>173700</F>
      </Row>
      <Row index="116">
        <F>176850</F>
      </Row>
      <Row index="117">
        <F>188100</F>
      </Row>
      <Row index="118">
        <F>187200</F>
      </Row>
      <Row index="119">
        <F>186975</F>
      </Row>
      <Row index="120">
        <F>191700</F>
      </Row>
      <Row index="121">
        <F>202275</F>
      </Row>
      <Row index="122">
        <F>189900</F>
      </Row>
      <Row index="123">
        <F>203850</F>
      </Row>
      <Row index="124">
        <F>206775</F>
      </Row>
      <Row index="125">
        <F>211725</F>
      </Row>
      <Row index="126">
        <F>214425</F>
      </Row>
      <Row index="127">
        <F>224550</F>
      </Row>
      <Row index="128">
        <F>201375</F>
      </Row>
      <Row index="129">
        <F>203175</F>
      </Row>
      <Row index="130">
        <F>214425</F>
      </Row>
      <Row index="131">
        <F>229950</F>
      </Row>
      <Row index="132">
        <F>228150</F>
      </Row>
      <Row index="133">
        <F>245475</F>
      </Row>
      <Row index="134">
        <F>255825</F>
      </Row>
      <Row index="135">
        <F>229275</F>
      </Row>
      <Row index="136">
        <F>255150</F>
      </Row>
      <Row index="137">
        <F>269325</F>
      </Row>
      <Row index="138">
        <F>258975</F>
      </Row>
      <Row index="139">
        <F>282150</F>
      </Row>
      <Row index="140">
        <F>290700</F>
      </Row>
      <Row index="141">
        <F>302850</F>
      </Row>
      <Row index="142">
        <F>296775</F>
      </Row>
      <Row index="143">
        <F>328725</F>
      </Row>
      <Row index="144">
        <F>322875</F>
      </Row>
      <Row index="145">
        <F>321075</F>
      </Row>
      <Row index="146">
        <F>322875</F>
      </Row>
      <Row index="147">
        <F>333000</F>
      </Row>
      <Row index="148">
        <F>330525</F>
      </Row>
      <Row index="149">
        <F>313875</F>
      </Row>
      <Row index="150">
        <F>301275</F>
      </Row>
      <Row index="151">
        <F>303300</F>
      </Row>
      <Row index="152">
        <F>308025</F>
      </Row>
      <Row index="153">
        <F>281025</F>
      </Row>
      <Row index="154">
        <F>274275</F>
      </Row>
      <Row index="155">
        <F>283950</F>
      </Row>
      <Row index="156">
        <F>253575</F>
      </Row>
      <Row index="157">
        <F>249750</F>
      </Row>
      <Row index="158">
        <F>222525</F>
      </Row>
      <Row index="159">
        <F>211725</F>
      </Row>
      <Row index="160">
        <F>199800</F>
      </Row>
      <Row index="161">
        <F>185400</F>
      </Row>
      <Row index="162">
        <F>153000</F>
      </Row>
      <Row index="163">
        <F>156375</F>
      </Row>
      <Row index="164">
        <F>131175</F>
      </Row>
      <Row index="165">
        <F>133875</F>
      </Row>
      <Row index="166">
        <F>123975</F>
      </Row>
      <Row index="167">
        <F>116325</F>
      </Row>
      <Row index="168">
        <F>101250</F>
      </Row>
      <Row index="169">
        <F>98775</F>
      </Row>
      <Row index="170">
        <F>95625</F>
      </Row>
      <Row index="171">
        <F>92925</F>
      </Row>
      <Row index="172">
        <F>86400</F>
      </Row>
      <Row index="173">
        <F>74925</F>
      </Row>
      <Row index="174">
        <F>76500</F>
      </Row>
      <Row index="175">
        <F>66375</F>
      </Row>
      <Row index="176">
        <F>71325</F>
      </Row>
      <Row index="177">
        <F>58950</F>
      </Row>
      <Row index="178">
        <F>59625</F>
      </Row>
      <Row index="179">
        <F>58050</F>
      </Row>
      <Row index="180">
        <F>45000</F>
      </Row>
      <Row index="181">
        <F>50625</F>
      </Row>
      <Row index="182">
        <F>50400</F>
      </Row>
      <Row index="183">
        <F>50625</F>
      </Row>
      <Row index="184">
        <F>45450</F>
      </Row>
      <Row index="185">
        <F>47700</F>
      </Row>
      <Row index="186">
        <F>44325</F>
      </Row>
      <Row index="187">
        <F>38250</F>
      </Row>
      <Row index="188">
        <F>44775</F>
      </Row>
      <Row index="189">
        <F>38925</F>
      </Row>
      <Row index="190">
        <F>35325</F>
      </Row>
      <Row index="191">
        <F>39150</F>
      </Row>
      <Row index="192">
        <F>37800</F>
      </Row>
      <Row index="193">
        <F>32625</F>
      </Row>
      <Row index="194">
        <F>31275</F>
      </Row>
      <Row index="195">
        <F>29700</F>
      </Row>
      <Row index="196">
        <F>27225</F>
      </Row>
      <Row index="197">
        <F>26775</F>
      </Row>
      <Row index="198">
        <F>25200</F>
      </Row>
      <Row index="199">
        <F>22500</F>
      </Row>
      <Row index="200">
        <F>21600</F>
      </Row>
      <Row index="201">
        <F>23625</F>
      </Row>
      <Row index="202">
        <F>16200</F>
      </Row>
      <Row index="203">
        <F>18225</F>
      </Row>
      <Row index="204">
        <F>16875</F>
      </Row>
      <Row index="205">
        <F>17325</F>
      </Row>
      <Row index="206">
        <F>15300</F>
      </Row>
      <Row index="207">
        <F>15075</F>
      </Row>
      <Row index="208">
        <F>15075</F>
      </Row>
      <Row index="209">
        <F>17325</F>
      </Row>
      <Row index="210">
        <F>11475</F>
      </Row>
      <Row index="211">
        <F>13275</F>
      </Row>
      <Row index="212">
        <F>13500</F>
      </Row>
      <Row index="213">
        <F>11700</F>
      </Row>
      <Row index="214">
        <F>10350</F>
      </Row>
      <Row index="215">
        <F>14625</F>
      </Row>
      <Row index="216">
        <F>9450</F>
      </Row>
      <Row index="217">
        <F>9225</F>
      </Row>
      <Row index="218">
        <F>9450</F>
      </Row>
      <Row index="219">
        <F>10125</F>
      </Row>
      <Row index="220">
        <F>6750</F>
      </Row>
      <Row index="221">
        <F>6750</F>
      </Row>
      <Row index="222">
        <F>6525</F>
      </Row>
      <Row index="223">
        <F>8775</F>
      </Row>
      <Row index="224">
        <F>6300</F>
      </Row>
      <Row index="225">
        <F>5625</F>
      </Row>
      <Row index="226">
        <F>6975</F>
      </Row>
      <Row index="227">
        <F>5175</F>
      </Row>
      <Row index="228">
        <F>5625</F>
      </Row>
      <Row index="229">
        <F>6075</F>
      </Row>
      <Row index="230">
        <F>6075</F>
      </Row>
      <Row index="231">
        <F>6300</F>
      </Row>
      <Row index="232">
        <F>9675</F>
      </Row>
      <Row index="233">
        <F>6750</F>
      </Row>
      <Row index="234">
        <F>6975</F>
      </Row>
      <Row index="235">
        <F>6975</F>
      </Row>
      <Row index="236">
        <F>5400</F>
      </Row>
      <Row index="237">
        <F>3375</F>
      </Row>
      <Row index="238">
        <F>8325</F>
      </Row>
      <Row index="239">
        <F>6525</F>
      </Row>
      <Row index="240">
        <F>5625</F>
      </Row>
      <Row index="241">
        <F>7875</F>
      </Row>
      <Row index="242">
        <F>6750</F>
      </Row>
      <Row index="243">
        <F>6525</F>
      </Row>
      <Row index="244">
        <F>7425</F>
      </Row>
      <Row index="245">
        <F>7650</F>
      </Row>
      <Row index="246">
        <F>6525</F>
      </Row>
      <Row index="247">
        <F>8325</F>
      </Row>
      <Row index="248">
        <F>9000</F>
      </Row>
      <Row index="249">
        <F>21150</F>
      </Row>
      <Row index="250">
        <F>105300</F>
      </Row>
      <Row index="251">
        <F>133200</F>
      </Row>
      <Row index="252">
        <F>93825</F>
      </Row>
      <Row index="253">
        <F>79875</F>
      </Row>
      <Row index="254">
        <F>34562250</F>
      </Row>
      <Row index="255">
        <F>31952700</F>
      </Row>
    </GDALRasterAttributeTable>
    <Metadata>
      <MDI key="LAYER_TYPE">athematic</MDI>
      <MDI key="STATISTICS_HISTOBINVALUES">0|0|0|0|0|0|0|0|0|0|0|0|0|0|0|0|0|0|0|0|0|0|0|0|0|0|0|0|0|0|0|225|900|675|1350|1575|3600|2250|2025|3825|5175|6300|13500|22500|32400|31500|36900|46350|45225|40725|50175|55575|57375|75825|77850|92250|102150|100575|106200|107550|113850|122850|128925|133200|154800|167625|204975|217575|238275|245025|237375|243000|260100|273825|299025|293175|297450|329625|348075|378675|447075|458550|430650|369675|347850|303750|292950|282825|254700|241875|227475|202050|177750|170775|159300|166275|167400|157500|169875|170100|162675|178200|176850|165375|169200|161550|165150|164700|150750|161325|156600|170550|175950|170100|172575|173700|176850|188100|187200|186975|191700|202275|189900|203850|206775|211725|214425|224550|201375|203175|214425|229950|228150|245475|255825|229275|255150|269325|258975|282150|290700|302850|296775|328725|322875|321075|322875|333000|330525|313875|301275|303300|308025|281025|274275|283950|253575|249750|222525|211725|199800|185400|153000|156375|131175|133875|123975|116325|101250|98775|95625|92925|86400|74925|76500|66375|71325|58950|59625|58050|45000|50625|50400|50625|45450|47700|44325|38250|44775|38925|35325|39150|37800|32625|31275|29700|27225|26775|25200|22500|21600|23625|16200|18225|16875|17325|15300|15075|15075|17325|11475|13275|13500|11700|10350|14625|9450|9225|9450|10125|6750|6750|6525|8775|6300|5625|6975|5175|5625|6075|6075|6300|9675|6750|6975|6975|5400|3375|8325|6525|5625|7875|6750|6525|7425|7650|6525|8325|9000|21150|105300|133200|93825|79875|34562250|31952700|</MDI>
    </Metadata>
  </PAMRasterBand>
</PAMDataset>
